BEGIN:VCALENDAR
PRODID:-//AT Content Types//AT Event//EN
VERSION:2.0
METHOD:PUBLISH
BEGIN:VEVENT
DTSTAMP:20260422T101630Z
CREATED:20240520T073716Z
UID:ATEvent-71525c540de040eeb1db38378320ddbc
LAST-MODIFIED:20240617T160602Z
SUMMARY:Baltic CIC - The Shed
DTSTART:20240716T100000Z
DTEND:20240716T190000Z
DESCRIPTION:Come along and see the plans and have your say
CLASS:PUBLIC
END:VEVENT
END:VCALENDAR
