BEGIN:VCALENDAR
PRODID:-//AT Content Types//AT Event//EN
VERSION:2.0
METHOD:PUBLISH
BEGIN:VEVENT
DTSTAMP:20260422T101624Z
CREATED:20240520T073716Z
UID:ATEvent-234b769fe29043ab918cdc1a4e0b433d
LAST-MODIFIED:20240617T160602Z
SUMMARY:Toxteth FireFit Youth & Community Hub
DTSTART:20240723T100000Z
DTEND:20240723T190000Z
DESCRIPTION:Come along and see the plans and have your say
CLASS:PUBLIC
END:VEVENT
END:VCALENDAR
